BEGIN:VCALENDAR
VERSION:2.0
PRODID:-//Stefan Greimel - Musik &amp; mehr - ECPv6.15.20//NONSGML v1.0//EN
CALSCALE:GREGORIAN
METHOD:PUBLISH
X-ORIGINAL-URL:https://stefangreimel.at
X-WR-CALDESC:Veranstaltungen für Stefan Greimel - Musik &amp; mehr
REFRESH-INTERVAL;VALUE=DURATION:PT1H
X-Robots-Tag:noindex
X-PUBLISHED-TTL:PT1H
BEGIN:VTIMEZONE
TZID:Europe/Berlin
BEGIN:DAYLIGHT
TZOFFSETFROM:+0100
TZOFFSETTO:+0200
TZNAME:CEST
DTSTART:20240331T010000
END:DAYLIGHT
BEGIN:STANDARD
TZOFFSETFROM:+0200
TZOFFSETTO:+0100
TZNAME:CET
DTSTART:20241027T010000
END:STANDARD
BEGIN:DAYLIGHT
TZOFFSETFROM:+0100
TZOFFSETTO:+0200
TZNAME:CEST
DTSTART:20250330T010000
END:DAYLIGHT
BEGIN:STANDARD
TZOFFSETFROM:+0200
TZOFFSETTO:+0100
TZNAME:CET
DTSTART:20251026T010000
END:STANDARD
BEGIN:DAYLIGHT
TZOFFSETFROM:+0100
TZOFFSETTO:+0200
TZNAME:CEST
DTSTART:20260329T010000
END:DAYLIGHT
BEGIN:STANDARD
TZOFFSETFROM:+0200
TZOFFSETTO:+0100
TZNAME:CET
DTSTART:20261025T010000
END:STANDARD
END:VTIMEZONE
BEGIN:VEVENT
DTSTART;TZID=Europe/Berlin:20250216T190000
DTEND;TZID=Europe/Berlin:20250216T220000
DTSTAMP:20260420T105307
CREATED:20241006T131137Z
LAST-MODIFIED:20250105T161231Z
UID:16154-1739732400-1739743200@stefangreimel.at
SUMMARY:Stefan Greimel singt Reinhard Mey - Kulturfleckerl Essling
DESCRIPTION:
URL:https://stefangreimel.at/event/stefan-greimel-singt-reinhard-mey-kulturfleckerl-essling/
LOCATION:Kulturfleckerl Essling\, Eßlinger Hauptstraße 96\, Wien\, 1220\, Austria
CATEGORIES:Musik
ATTACH;FMTTYPE=image/jpeg:https://stefangreimel.at/wp-content/uploads/2023/07/orpheus_V2.jpg
END:VEVENT
BEGIN:VEVENT
DTSTART;TZID=Europe/Berlin:20250222T193000
DTEND;TZID=Europe/Berlin:20250222T230000
DTSTAMP:20260420T105307
CREATED:20250115T192915Z
LAST-MODIFIED:20250115T193408Z
UID:16349-1740252600-1740265200@stefangreimel.at
SUMMARY:Stefan Greimel singt Reinhard Mey - Raabs an der Thaya
DESCRIPTION:
URL:https://stefangreimel.at/event/stefan-greimel-singt-reinhard-mey-raabs-an-der-thaya/
LOCATION:Schüttkasten im Lindenhof\, Oberndorf bei Raabs 7\, Raabs an der Thaya\, 3820\, Austria
CATEGORIES:Musik
ATTACH;FMTTYPE=image/jpeg:https://stefangreimel.at/wp-content/uploads/2023/07/orpheus_V2.jpg
END:VEVENT
END:VCALENDAR