BEGIN:VCALENDAR
VERSION:2.0
PRODID:-//Stefan Greimel - Musik &amp; mehr - ECPv6.15.20//NONSGML v1.0//EN
CALSCALE:GREGORIAN
METHOD:PUBLISH
X-WR-CALNAME:Stefan Greimel - Musik &amp; mehr
X-ORIGINAL-URL:https://stefangreimel.at
X-WR-CALDESC:Veranstaltungen für Stefan Greimel - Musik &amp; mehr
REFRESH-INTERVAL;VALUE=DURATION:PT1H
X-Robots-Tag:noindex
X-PUBLISHED-TTL:PT1H
BEGIN:VTIMEZONE
TZID:Europe/Berlin
BEGIN:DAYLIGHT
TZOFFSETFROM:+0100
TZOFFSETTO:+0200
TZNAME:CEST
DTSTART:20230326T010000
END:DAYLIGHT
BEGIN:STANDARD
TZOFFSETFROM:+0200
TZOFFSETTO:+0100
TZNAME:CET
DTSTART:20231029T010000
END:STANDARD
BEGIN:DAYLIGHT
TZOFFSETFROM:+0100
TZOFFSETTO:+0200
TZNAME:CEST
DTSTART:20240331T010000
END:DAYLIGHT
BEGIN:STANDARD
TZOFFSETFROM:+0200
TZOFFSETTO:+0100
TZNAME:CET
DTSTART:20241027T010000
END:STANDARD
BEGIN:DAYLIGHT
TZOFFSETFROM:+0100
TZOFFSETTO:+0200
TZNAME:CEST
DTSTART:20250330T010000
END:DAYLIGHT
BEGIN:STANDARD
TZOFFSETFROM:+0200
TZOFFSETTO:+0100
TZNAME:CET
DTSTART:20251026T010000
END:STANDARD
END:VTIMEZONE
BEGIN:VEVENT
DTSTART;TZID=Europe/Berlin:20240601T193000
DTEND;TZID=Europe/Berlin:20240601T220000
DTSTAMP:20260423T000846
CREATED:20231224T214545Z
LAST-MODIFIED:20231224T214807Z
UID:16118-1717270200-1717279200@stefangreimel.at
SUMMARY:Burgtheater Hohenegg - Eine verhängnisvolle Nacht
DESCRIPTION:Die beiden Lokalpolitiker Toni Sieger und Erich Pfund wachen nach einer reichlich durchzechten Nacht im „Erotik-Tempel“ aus ihrem Tiefschlaf auf. Der Tag beginnt jedoch mit einem Alptraum\, der die beiden um Ruhm\, Anerkennung\, Ehe und Ehre bringen kann. Denn plötzlich will sich die Tänzerin Olga bei Toni einquartieren\, die Polizei ist im Haus und der üble Ganove Mario Brutelli will Geld aus Spielschulden mit Waffengewalt eintreiben. Tonis Frau Frida setzt alle Hebel in Bewegung um ihren Mann als zukünftigen Landeshauptmann zu sehen\, denn die Nachbarin Silvia Huber nervt gewaltig. Dagegen will die Gemeindekassierin Renate Kern nur eines: Das Geld aus der Gemeindekasse muss wieder her.\nEin gefundenes Fressen für die Journalistin Martina Baumann: Das ist ihre große Story!
URL:https://stefangreimel.at/event/burgtheater-hohenegg-eine-verhaengnisvolle-nacht-2/
LOCATION:Burgruine Hohenegg\, Burgstraße\, Hafnerbach\, Niederösterreich\, 3386\, Österreich
CATEGORIES:Theater
ATTACH;FMTTYPE=image/jpeg:https://stefangreimel.at/wp-content/uploads/2023/12/Ticket_880x590px.jpg
ORGANIZER;CN="Kultur- und Tourismusverein Hafnerbach":MAILTO:vorstand@kultur-hafnerbach.at
END:VEVENT
BEGIN:VEVENT
DTSTART;TZID=Europe/Berlin:20240602T170000
DTEND;TZID=Europe/Berlin:20240602T200000
DTSTAMP:20260423T000846
CREATED:20231224T214736Z
LAST-MODIFIED:20231224T214736Z
UID:16120-1717347600-1717358400@stefangreimel.at
SUMMARY:Burgtheater Hohenegg - Eine verhängnisvolle Nacht
DESCRIPTION:Die beiden Lokalpolitiker Toni Sieger und Erich Pfund wachen nach einer reichlich durchzechten Nacht im „Erotik-Tempel“ aus ihrem Tiefschlaf auf. Der Tag beginnt jedoch mit einem Alptraum\, der die beiden um Ruhm\, Anerkennung\, Ehe und Ehre bringen kann. Denn plötzlich will sich die Tänzerin Olga bei Toni einquartieren\, die Polizei ist im Haus und der üble Ganove Mario Brutelli will Geld aus Spielschulden mit Waffengewalt eintreiben. Tonis Frau Frida setzt alle Hebel in Bewegung um ihren Mann als zukünftigen Landeshauptmann zu sehen\, denn die Nachbarin Silvia Huber nervt gewaltig. Dagegen will die Gemeindekassierin Renate Kern nur eines: Das Geld aus der Gemeindekasse muss wieder her.\nEin gefundenes Fressen für die Journalistin Martina Baumann: Das ist ihre große Story!
URL:https://stefangreimel.at/event/burgtheater-hohenegg-eine-verhaengnisvolle-nacht-3/
LOCATION:Burgruine Hohenegg\, Burgstraße\, Hafnerbach\, Niederösterreich\, 3386\, Österreich
CATEGORIES:Theater
ATTACH;FMTTYPE=image/jpeg:https://stefangreimel.at/wp-content/uploads/2023/12/Ticket_880x590px.jpg
ORGANIZER;CN="Kultur- und Tourismusverein Hafnerbach":MAILTO:vorstand@kultur-hafnerbach.at
END:VEVENT
BEGIN:VEVENT
DTSTART;TZID=Europe/Berlin:20240607T193000
DTEND;TZID=Europe/Berlin:20240607T220000
DTSTAMP:20260423T000846
CREATED:20231224T214946Z
LAST-MODIFIED:20231224T214946Z
UID:16122-1717788600-1717797600@stefangreimel.at
SUMMARY:Burgtheater Hohenegg - Eine verhängnisvolle Nacht
DESCRIPTION:Die beiden Lokalpolitiker Toni Sieger und Erich Pfund wachen nach einer reichlich durchzechten Nacht im „Erotik-Tempel“ aus ihrem Tiefschlaf auf. Der Tag beginnt jedoch mit einem Alptraum\, der die beiden um Ruhm\, Anerkennung\, Ehe und Ehre bringen kann. Denn plötzlich will sich die Tänzerin Olga bei Toni einquartieren\, die Polizei ist im Haus und der üble Ganove Mario Brutelli will Geld aus Spielschulden mit Waffengewalt eintreiben. Tonis Frau Frida setzt alle Hebel in Bewegung um ihren Mann als zukünftigen Landeshauptmann zu sehen\, denn die Nachbarin Silvia Huber nervt gewaltig. Dagegen will die Gemeindekassierin Renate Kern nur eines: Das Geld aus der Gemeindekasse muss wieder her.\nEin gefundenes Fressen für die Journalistin Martina Baumann: Das ist ihre große Story!
URL:https://stefangreimel.at/event/burgtheater-hohenegg-eine-verhaengnisvolle-nacht-4/
LOCATION:Burgruine Hohenegg\, Burgstraße\, Hafnerbach\, Niederösterreich\, 3386\, Österreich
CATEGORIES:Theater
ATTACH;FMTTYPE=image/jpeg:https://stefangreimel.at/wp-content/uploads/2023/12/Ticket_880x590px.jpg
ORGANIZER;CN="Kultur- und Tourismusverein Hafnerbach":MAILTO:vorstand@kultur-hafnerbach.at
END:VEVENT
BEGIN:VEVENT
DTSTART;TZID=Europe/Berlin:20240608T193000
DTEND;TZID=Europe/Berlin:20240608T220000
DTSTAMP:20260423T000846
CREATED:20231224T215107Z
LAST-MODIFIED:20231224T215107Z
UID:16124-1717875000-1717884000@stefangreimel.at
SUMMARY:Burgtheater Hohenegg - Eine verhängnisvolle Nacht
DESCRIPTION:Die beiden Lokalpolitiker Toni Sieger und Erich Pfund wachen nach einer reichlich durchzechten Nacht im „Erotik-Tempel“ aus ihrem Tiefschlaf auf. Der Tag beginnt jedoch mit einem Alptraum\, der die beiden um Ruhm\, Anerkennung\, Ehe und Ehre bringen kann. Denn plötzlich will sich die Tänzerin Olga bei Toni einquartieren\, die Polizei ist im Haus und der üble Ganove Mario Brutelli will Geld aus Spielschulden mit Waffengewalt eintreiben. Tonis Frau Frida setzt alle Hebel in Bewegung um ihren Mann als zukünftigen Landeshauptmann zu sehen\, denn die Nachbarin Silvia Huber nervt gewaltig. Dagegen will die Gemeindekassierin Renate Kern nur eines: Das Geld aus der Gemeindekasse muss wieder her.\nEin gefundenes Fressen für die Journalistin Martina Baumann: Das ist ihre große Story!
URL:https://stefangreimel.at/event/burgtheater-hohenegg-eine-verhaengnisvolle-nacht-5/
LOCATION:Burgruine Hohenegg\, Burgstraße\, Hafnerbach\, Niederösterreich\, 3386\, Österreich
CATEGORIES:Theater
ATTACH;FMTTYPE=image/jpeg:https://stefangreimel.at/wp-content/uploads/2023/12/Ticket_880x590px.jpg
ORGANIZER;CN="Kultur- und Tourismusverein Hafnerbach":MAILTO:vorstand@kultur-hafnerbach.at
END:VEVENT
BEGIN:VEVENT
DTSTART;TZID=Europe/Berlin:20240609T170000
DTEND;TZID=Europe/Berlin:20240609T200000
DTSTAMP:20260423T000846
CREATED:20231224T215220Z
LAST-MODIFIED:20231224T215234Z
UID:16126-1717952400-1717963200@stefangreimel.at
SUMMARY:Burgtheater Hohenegg - Eine verhängnisvolle Nacht
DESCRIPTION:Die beiden Lokalpolitiker Toni Sieger und Erich Pfund wachen nach einer reichlich durchzechten Nacht im „Erotik-Tempel“ aus ihrem Tiefschlaf auf. Der Tag beginnt jedoch mit einem Alptraum\, der die beiden um Ruhm\, Anerkennung\, Ehe und Ehre bringen kann. Denn plötzlich will sich die Tänzerin Olga bei Toni einquartieren\, die Polizei ist im Haus und der üble Ganove Mario Brutelli will Geld aus Spielschulden mit Waffengewalt eintreiben. Tonis Frau Frida setzt alle Hebel in Bewegung um ihren Mann als zukünftigen Landeshauptmann zu sehen\, denn die Nachbarin Silvia Huber nervt gewaltig. Dagegen will die Gemeindekassierin Renate Kern nur eines: Das Geld aus der Gemeindekasse muss wieder her.\nEin gefundenes Fressen für die Journalistin Martina Baumann: Das ist ihre große Story!
URL:https://stefangreimel.at/event/burgtheater-hohenegg-eine-verhaengnisvolle-nacht-6/
LOCATION:Burgruine Hohenegg\, Burgstraße\, Hafnerbach\, Niederösterreich\, 3386\, Österreich
CATEGORIES:Theater
ATTACH;FMTTYPE=image/jpeg:https://stefangreimel.at/wp-content/uploads/2023/12/Ticket_880x590px.jpg
ORGANIZER;CN="Kultur- und Tourismusverein Hafnerbach":MAILTO:vorstand@kultur-hafnerbach.at
END:VEVENT
BEGIN:VEVENT
DTSTART;TZID=Europe/Berlin:20240628T193000
DTEND;TZID=Europe/Berlin:20240628T230000
DTSTAMP:20260423T000846
CREATED:20240617T065446Z
LAST-MODIFIED:20240617T065446Z
UID:16141-1719603000-1719615600@stefangreimel.at
SUMMARY:ZEIT4uns - alte Schmiede in Schönberg am Kamp
DESCRIPTION:ZEIT4 uns in Vollbesetzung in der alten Schmiede. \nKarten auf der Homepage des Veranstalters: \nVeranstaltungen (alteschmiede-schoenberg.at)
URL:https://stefangreimel.at/event/zeit4uns-alte-schmiede-in-schoenberg-am-kamp/
LOCATION:Alte Schmiede\, Hauptstraße 36\, Schönberg am Kamp\, 3562\, Österreich
END:VEVENT
END:VCALENDAR