BEGIN:VCALENDAR
VERSION:2.0
PRODID:-//Stefan Greimel - Musik &amp; mehr - ECPv6.15.20//NONSGML v1.0//EN
CALSCALE:GREGORIAN
METHOD:PUBLISH
X-ORIGINAL-URL:https://stefangreimel.at
X-WR-CALDESC:Veranstaltungen für Stefan Greimel - Musik &amp; mehr
REFRESH-INTERVAL;VALUE=DURATION:PT1H
X-Robots-Tag:noindex
X-PUBLISHED-TTL:PT1H
BEGIN:VTIMEZONE
TZID:Europe/Berlin
BEGIN:DAYLIGHT
TZOFFSETFROM:+0100
TZOFFSETTO:+0200
TZNAME:CEST
DTSTART:20230326T010000
END:DAYLIGHT
BEGIN:STANDARD
TZOFFSETFROM:+0200
TZOFFSETTO:+0100
TZNAME:CET
DTSTART:20231029T010000
END:STANDARD
BEGIN:DAYLIGHT
TZOFFSETFROM:+0100
TZOFFSETTO:+0200
TZNAME:CEST
DTSTART:20240331T010000
END:DAYLIGHT
BEGIN:STANDARD
TZOFFSETFROM:+0200
TZOFFSETTO:+0100
TZNAME:CET
DTSTART:20241027T010000
END:STANDARD
BEGIN:DAYLIGHT
TZOFFSETFROM:+0100
TZOFFSETTO:+0200
TZNAME:CEST
DTSTART:20250330T010000
END:DAYLIGHT
BEGIN:STANDARD
TZOFFSETFROM:+0200
TZOFFSETTO:+0100
TZNAME:CET
DTSTART:20251026T010000
END:STANDARD
END:VTIMEZONE
BEGIN:VEVENT
DTSTART;TZID=Europe/Berlin:20240216T200000
DTEND;TZID=Europe/Berlin:20240216T230000
DTSTAMP:20260423T064919
CREATED:20231224T211852Z
LAST-MODIFIED:20240109T201928Z
UID:16105-1708113600-1708124400@stefangreimel.at
SUMMARY:Stefan Greimel singt Reinhard Mey - Freuraum
DESCRIPTION:Wer hat sie nicht im Ohr\, die wunderbaren Chansons und Balladen von Reinhard Mey? Der große Liedermacher hat sich über Generationen in die Herzen von Millionen Menschen gesungen. \nDer Musiker und Sänger Stefan Greimel hat einen großartigen Abend aus Reinhard Meys reichhaltigem Repertoire zusammengestellt. Nur eine Gitarre und seine einfühlsame Stimme machen es möglich\, das Publikum auf eine phantastische Reise mitzunehmen. Mit bekannten Chansons des berühmten Liedermachers\, wie auch selten gespielten Balladen zum Wiederentdecken verzaubert der Musiker sein Publikum. \nEin Muss für Reinhard Mey Fans und all jene\, die es noch werden wollen. \nStefan Greimel gelingt es\, wie Orpheus zu singen  „…wenn er über die Saiten strich\, schwieg der Wind und das Meer.“
URL:https://stefangreimel.at/event/stefan-greimel-singt-reinhard-mey-freuraum/
LOCATION:Freuraum Eisenstadt\, Fanny Elßler Gasse 3\, Eisenstadt\, Burgenland\, 7000\, Österreich
CATEGORIES:Musik
ATTACH;FMTTYPE=image/jpeg:https://stefangreimel.at/wp-content/uploads/2023/05/orpheus_V2.jpg
ORGANIZER;CN="Freuraum Eisensatdt":MAILTO:hallo@freu-raum.at
END:VEVENT
END:VCALENDAR