BEGIN:VCALENDAR
VERSION:2.0
PRODID:-//Stefan Greimel - Musik &amp; mehr - ECPv6.15.20//NONSGML v1.0//EN
CALSCALE:GREGORIAN
METHOD:PUBLISH
X-ORIGINAL-URL:https://stefangreimel.at
X-WR-CALDESC:Veranstaltungen für Stefan Greimel - Musik &amp; mehr
REFRESH-INTERVAL;VALUE=DURATION:PT1H
X-Robots-Tag:noindex
X-PUBLISHED-TTL:PT1H
BEGIN:VTIMEZONE
TZID:Europe/Berlin
BEGIN:DAYLIGHT
TZOFFSETFROM:+0100
TZOFFSETTO:+0200
TZNAME:CEST
DTSTART:20220327T010000
END:DAYLIGHT
BEGIN:STANDARD
TZOFFSETFROM:+0200
TZOFFSETTO:+0100
TZNAME:CET
DTSTART:20221030T010000
END:STANDARD
BEGIN:DAYLIGHT
TZOFFSETFROM:+0100
TZOFFSETTO:+0200
TZNAME:CEST
DTSTART:20230326T010000
END:DAYLIGHT
BEGIN:STANDARD
TZOFFSETFROM:+0200
TZOFFSETTO:+0100
TZNAME:CET
DTSTART:20231029T010000
END:STANDARD
BEGIN:DAYLIGHT
TZOFFSETFROM:+0100
TZOFFSETTO:+0200
TZNAME:CEST
DTSTART:20240331T010000
END:DAYLIGHT
BEGIN:STANDARD
TZOFFSETFROM:+0200
TZOFFSETTO:+0100
TZNAME:CET
DTSTART:20241027T010000
END:STANDARD
END:VTIMEZONE
BEGIN:VEVENT
DTSTART;TZID=Europe/Berlin:20231006T200000
DTEND;TZID=Europe/Berlin:20231006T230000
DTSTAMP:20260423T134341
CREATED:20230726T210102Z
LAST-MODIFIED:20230726T211125Z
UID:16083-1696622400-1696633200@stefangreimel.at
SUMMARY:ZEIT4uns @ GUK Rabenstein
DESCRIPTION:Karten in der Trafik Rabenstein oder unter 0664/6018723213
URL:https://stefangreimel.at/event/zeit4uns-guk-rabenstein/
LOCATION:GUK Rabenstein\, Marktplatz 6\, Rabenstein an der Pielach\, Niederösterreich\, 3203\, Österreich
CATEGORIES:Musik
ATTACH;FMTTYPE=image/jpeg:https://stefangreimel.at/wp-content/uploads/2022/12/Zeit4uns_001.jpg
ORGANIZER;CN="Kultur- und Tourismusverein Hafnerbach":MAILTO:vorstand@kultur-hafnerbach.at
END:VEVENT
BEGIN:VEVENT
DTSTART;TZID=Europe/Berlin:20231007T200000
DTEND;TZID=Europe/Berlin:20231007T230000
DTSTAMP:20260423T134341
CREATED:20230801T124451Z
LAST-MODIFIED:20230801T124900Z
UID:16097-1696708800-1696719600@stefangreimel.at
SUMMARY:ZEIT4uns @Kulturwerkstatt Albrechtsberg
DESCRIPTION:Karten auf der Homepage des Veranstalters: \nhttps://www.kulturwerkstatt-albrechtsberg.at/
URL:https://stefangreimel.at/event/zeit4uns-kulturwerkstatt-albrechtsberg/
LOCATION:Kultursaal Albrechtsberg\, Albrechtsberg 41\, Albrechtsberg\, Niederösterreich\, 3613\, Österreich
CATEGORIES:Musik
ATTACH;FMTTYPE=image/jpeg:https://stefangreimel.at/wp-content/uploads/2022/12/Zeit4uns_001.jpg
ORGANIZER;CN="Kulturwerkstatt Albrechtsberg":MAILTO:cm.bernleitner@gmail.com
END:VEVENT
END:VCALENDAR