BEGIN:VCALENDAR
VERSION:2.0
PRODID:-//Stefan Greimel - Musik &amp; mehr - ECPv6.15.20//NONSGML v1.0//EN
CALSCALE:GREGORIAN
METHOD:PUBLISH
X-ORIGINAL-URL:https://stefangreimel.at
X-WR-CALDESC:Veranstaltungen für Stefan Greimel - Musik &amp; mehr
REFRESH-INTERVAL;VALUE=DURATION:PT1H
X-Robots-Tag:noindex
X-PUBLISHED-TTL:PT1H
BEGIN:VTIMEZONE
TZID:UTC
BEGIN:STANDARD
TZOFFSETFROM:+0000
TZOFFSETTO:+0000
TZNAME:UTC
DTSTART:20220101T000000
END:STANDARD
END:VTIMEZONE
BEGIN:VEVENT
DTSTART;TZID=UTC:20230224T193000
DTEND;TZID=UTC:20230224T230000
DTSTAMP:20260425T174138
CREATED:20221224T180000Z
LAST-MODIFIED:20221224T214933Z
UID:10803-1677267000-1677279600@stefangreimel.at
SUMMARY:Über den Wolken - geschlossene Veranstaltung
DESCRIPTION:Über den Wolken mit Katharina Grabner-Hayden bei der Sprengelversammlung Der Raiffeisenbank Region St. Pölten \n 
URL:https://stefangreimel.at/event/sister-act-abundantly/
LOCATION:Mehrzweckhalle Hafnerbach\, Museumsstraße 43\, Hafnerbach\, Niederösterreich\, 3386\, Österreich
CATEGORIES:Musik
ATTACH;FMTTYPE=image/jpeg:https://stefangreimel.at/wp-content/uploads/2022/12/duett_001.jpg
END:VEVENT
END:VCALENDAR