BEGIN:VCALENDAR
VERSION:2.0
PRODID:-//Stefan Greimel - Musik &amp; mehr - ECPv6.15.20//NONSGML v1.0//EN
CALSCALE:GREGORIAN
METHOD:PUBLISH
X-ORIGINAL-URL:https://stefangreimel.at
X-WR-CALDESC:Veranstaltungen für Stefan Greimel - Musik &amp; mehr
REFRESH-INTERVAL;VALUE=DURATION:PT1H
X-Robots-Tag:noindex
X-PUBLISHED-TTL:PT1H
BEGIN:VTIMEZONE
TZID:Europe/Berlin
BEGIN:DAYLIGHT
TZOFFSETFROM:+0100
TZOFFSETTO:+0200
TZNAME:CEST
DTSTART:20240331T010000
END:DAYLIGHT
BEGIN:STANDARD
TZOFFSETFROM:+0200
TZOFFSETTO:+0100
TZNAME:CET
DTSTART:20241027T010000
END:STANDARD
BEGIN:DAYLIGHT
TZOFFSETFROM:+0100
TZOFFSETTO:+0200
TZNAME:CEST
DTSTART:20250330T010000
END:DAYLIGHT
BEGIN:STANDARD
TZOFFSETFROM:+0200
TZOFFSETTO:+0100
TZNAME:CET
DTSTART:20251026T010000
END:STANDARD
BEGIN:DAYLIGHT
TZOFFSETFROM:+0100
TZOFFSETTO:+0200
TZNAME:CEST
DTSTART:20260329T010000
END:DAYLIGHT
BEGIN:STANDARD
TZOFFSETFROM:+0200
TZOFFSETTO:+0100
TZNAME:CET
DTSTART:20261025T010000
END:STANDARD
END:VTIMEZONE
BEGIN:VEVENT
DTSTART;TZID=Europe/Berlin:20251115T193000
DTEND;TZID=Europe/Berlin:20251115T230000
DTSTAMP:20260419T212740
CREATED:20250109T212112Z
LAST-MODIFIED:20250109T212117Z
UID:16312-1763235000-1763247600@stefangreimel.at
SUMMARY:Was Sie nicht lachen - die besten Doppelconférencen
DESCRIPTION:Erleben Sie einen Abend voller Witz\, Esprit und hinreißender Wortgefechte! Daniel Oppenauer und Stefan Greimel präsentieren die Kunst der Doppelconférence in ihrer besten Form. \n\n\n\nVon klassischem Kabarett bis hin zu zeitgenössischem Humor führen Oppenauer und Greimel mit viel Feingefühl und einem Augenzwinkern durch ein Programm\, das den Geist der Wiener Tradition mit modernem Esprit vereint. Mit ihren messerscharfen Dialogen einer unvergleichlichen Bühnenchemie entführen sie das Publikum in die Welt der feinen Satire und des tiefgründigen Humors. \n\n\n\nOb gesellschaftskritische Themen\, absurde Alltagsbeobachtungen oder amüsante Anekdoten – Daniel Oppenauer und Stefan Greimel wissen\, wie sie mit intelligentem Wortwitz und überraschenden Wendungen begeistern können. Ein Abend\, der zum Lachen\, Nachdenken und Genießen einlädt!
URL:https://stefangreimel.at/event/was-sie-nicht-lachen-die-besten-doppelconferencen-2/
LOCATION:Volksschule Hafnerbach\, Museumstraße 43\, Hafnerbach\, 3386\, Austria
CATEGORIES:Theater
ATTACH;FMTTYPE=image/jpeg:https://stefangreimel.at/wp-content/uploads/2025/01/2025_Doppelconference.jpg
ORGANIZER;CN="Kultur- und Tourismusverein Hafnerbach":MAILTO:vorstand@kultur-hafnerbach.at
END:VEVENT
END:VCALENDAR