BEGIN:VCALENDAR
VERSION:2.0
PRODID:-//Stefan Greimel - Musik &amp; mehr - ECPv6.15.20//NONSGML v1.0//EN
CALSCALE:GREGORIAN
METHOD:PUBLISH
X-ORIGINAL-URL:https://stefangreimel.at
X-WR-CALDESC:Veranstaltungen für Stefan Greimel - Musik &amp; mehr
REFRESH-INTERVAL;VALUE=DURATION:PT1H
X-Robots-Tag:noindex
X-PUBLISHED-TTL:PT1H
BEGIN:VTIMEZONE
TZID:Europe/Berlin
BEGIN:DAYLIGHT
TZOFFSETFROM:+0100
TZOFFSETTO:+0200
TZNAME:CEST
DTSTART:20230326T010000
END:DAYLIGHT
BEGIN:STANDARD
TZOFFSETFROM:+0200
TZOFFSETTO:+0100
TZNAME:CET
DTSTART:20231029T010000
END:STANDARD
BEGIN:DAYLIGHT
TZOFFSETFROM:+0100
TZOFFSETTO:+0200
TZNAME:CEST
DTSTART:20240331T010000
END:DAYLIGHT
BEGIN:STANDARD
TZOFFSETFROM:+0200
TZOFFSETTO:+0100
TZNAME:CET
DTSTART:20241027T010000
END:STANDARD
BEGIN:DAYLIGHT
TZOFFSETFROM:+0100
TZOFFSETTO:+0200
TZNAME:CEST
DTSTART:20250330T010000
END:DAYLIGHT
BEGIN:STANDARD
TZOFFSETFROM:+0200
TZOFFSETTO:+0100
TZNAME:CET
DTSTART:20251026T010000
END:STANDARD
END:VTIMEZONE
BEGIN:VEVENT
DTSTART;TZID=Europe/Berlin:20240706T180000
DTEND;TZID=Europe/Berlin:20240706T230000
DTSTAMP:20260422T235723
CREATED:20240617T070146Z
LAST-MODIFIED:20240617T070146Z
UID:16145-1720288800-1720306800@stefangreimel.at
SUMMARY:ZEIT4uns - Schlosspark Kirchberg a. d. Pielach
DESCRIPTION:ZEIT4uns in Vollbesetzung im wunderschönen Schlosspark in Kirchberg an der Pielach. \nKarten auf der Homepage des Veranstalters: \nKonzert Zeit4uns – Veranstaltungskalender Niederösterreich (niederoesterreich.at) \n 
URL:https://stefangreimel.at/event/zeit4uns-schlosspark-kirchberg-a-d-pielach/
LOCATION:Schlosspark Kirchberg\, Schlosshof 1\, Kirchberg an der Pielach\, 3204\, Österreich
END:VEVENT
END:VCALENDAR