BEGIN:VCALENDAR
VERSION:2.0
PRODID:-//Stefan Greimel - Musik &amp; mehr - ECPv6.15.20//NONSGML v1.0//EN
CALSCALE:GREGORIAN
METHOD:PUBLISH
X-ORIGINAL-URL:https://stefangreimel.at
X-WR-CALDESC:Veranstaltungen für Stefan Greimel - Musik &amp; mehr
REFRESH-INTERVAL;VALUE=DURATION:PT1H
X-Robots-Tag:noindex
X-PUBLISHED-TTL:PT1H
BEGIN:VTIMEZONE
TZID:Europe/Berlin
BEGIN:DAYLIGHT
TZOFFSETFROM:+0100
TZOFFSETTO:+0200
TZNAME:CEST
DTSTART:20230326T010000
END:DAYLIGHT
BEGIN:STANDARD
TZOFFSETFROM:+0200
TZOFFSETTO:+0100
TZNAME:CET
DTSTART:20231029T010000
END:STANDARD
BEGIN:DAYLIGHT
TZOFFSETFROM:+0100
TZOFFSETTO:+0200
TZNAME:CEST
DTSTART:20240331T010000
END:DAYLIGHT
BEGIN:STANDARD
TZOFFSETFROM:+0200
TZOFFSETTO:+0100
TZNAME:CET
DTSTART:20241027T010000
END:STANDARD
BEGIN:DAYLIGHT
TZOFFSETFROM:+0100
TZOFFSETTO:+0200
TZNAME:CEST
DTSTART:20250330T010000
END:DAYLIGHT
BEGIN:STANDARD
TZOFFSETFROM:+0200
TZOFFSETTO:+0100
TZNAME:CET
DTSTART:20251026T010000
END:STANDARD
END:VTIMEZONE
BEGIN:VEVENT
DTSTART;TZID=Europe/Berlin:20240302T200000
DTEND;TZID=Europe/Berlin:20240302T230000
DTSTAMP:20260423T064734
CREATED:20240109T194308Z
LAST-MODIFIED:20240109T201825Z
UID:16131-1709409600-1709420400@stefangreimel.at
SUMMARY:Stefan Greimel singt Reinhard Mey - Rathaussaal Weitra
DESCRIPTION:Tickets unter: https://stg.deinetickets.de/ \nWer hat sie nicht im Ohr\, die wunderbaren Chansons und Balladen von Reinhard Mey? Der große Liedermacher hat sich über Generationen in die Herzen von Millionen Menschen gesungen. \nDer Musiker und Sänger Stefan Greimel hat einen großartigen Abend aus Reinhard Meys reichhaltigem Repertoire zusammengestellt. Nur eine Gitarre und seine einfühlsame Stimme machen es möglich\, das Publikum auf eine phantastische Reise mitzunehmen. Mit bekannten Chansons des berühmten Liedermachers\, wie auch selten gespielten Balladen zum Wiederentdecken verzaubert der Musiker sein Publikum. \nEin Muss für Reinhard Mey Fans und all jene\, die es noch werden wollen. \nStefan Greimel gelingt es\, wie Orpheus zu singen  „…wenn er über die Saiten strich\, schwieg der Wind und das Meer.“ \n 
URL:https://stefangreimel.at/event/stefan-greimel-singt-reinhard-mey-rathaussaal-weitra/
LOCATION:Rathaussaal Weitra\, Rathausplatz 1\, Weitra\, Niederösterreich\, 3970\, Österreich
CATEGORIES:Musik
ATTACH;FMTTYPE=image/jpeg:https://stefangreimel.at/wp-content/uploads/2023/05/orpheus_V2.jpg
ORGANIZER;CN="Kultur- und Tourismusverein Hafnerbach":MAILTO:vorstand@kultur-hafnerbach.at
END:VEVENT
END:VCALENDAR