BEGIN:VCALENDAR
VERSION:2.0
PRODID:-//Stefan Greimel - Musik &amp; mehr - ECPv6.15.20//NONSGML v1.0//EN
CALSCALE:GREGORIAN
METHOD:PUBLISH
X-ORIGINAL-URL:https://stefangreimel.at
X-WR-CALDESC:Veranstaltungen für Stefan Greimel - Musik &amp; mehr
REFRESH-INTERVAL;VALUE=DURATION:PT1H
X-Robots-Tag:noindex
X-PUBLISHED-TTL:PT1H
BEGIN:VTIMEZONE
TZID:UTC
BEGIN:STANDARD
TZOFFSETFROM:+0000
TZOFFSETTO:+0000
TZNAME:UTC
DTSTART:20220101T000000
END:STANDARD
END:VTIMEZONE
BEGIN:VEVENT
DTSTART;TZID=UTC:20230506T193000
DTEND;TZID=UTC:20230506T230000
DTSTAMP:20260425T140318
CREATED:20170611T220000Z
LAST-MODIFIED:20230205T150941Z
UID:10801-1683401400-1683414000@stefangreimel.at
SUMMARY:Ich wollte wie Orpheus singen - Tschocherl
DESCRIPTION:Ein Abend mit den Liedern von Reinhard Mey – PREMIERE!
URL:https://stefangreimel.at/event/tschocherl3/
LOCATION:Tschocherl\, Wurmsergasse 42\, Wien\, Wien\, 1150\, Österreich
CATEGORIES:Musik
ATTACH;FMTTYPE=image/jpeg:https://stefangreimel.at/wp-content/uploads/2022/12/2016-08-04-20.06.00-RG-0-e1675609757658.jpg
ORGANIZER;CN="Tschocherl - Verein zur Erhaltung Mobiler%2C Kunst- und Kulturwerte":MAILTO:office@tschocherl.wien
END:VEVENT
END:VCALENDAR